BEGIN:VCALENDAR
VERSION:2.0
PRODID:-//Feuerwehrverein Embrachertal - ECPv6.15.20//NONSGML v1.0//EN
CALSCALE:GREGORIAN
METHOD:PUBLISH
X-WR-CALNAME:Feuerwehrverein Embrachertal
X-ORIGINAL-URL:https://fwv.ch
X-WR-CALDESC:Veranstaltungen für Feuerwehrverein Embrachertal
REFRESH-INTERVAL;VALUE=DURATION:PT1H
X-Robots-Tag:noindex
X-PUBLISHED-TTL:PT1H
BEGIN:VTIMEZONE
TZID:Europe/Zurich
BEGIN:DAYLIGHT
TZOFFSETFROM:+0100
TZOFFSETTO:+0200
TZNAME:CEST
DTSTART:20250330T010000
END:DAYLIGHT
BEGIN:STANDARD
TZOFFSETFROM:+0200
TZOFFSETTO:+0100
TZNAME:CET
DTSTART:20251026T010000
END:STANDARD
BEGIN:DAYLIGHT
TZOFFSETFROM:+0100
TZOFFSETTO:+0200
TZNAME:CEST
DTSTART:20260329T010000
END:DAYLIGHT
BEGIN:STANDARD
TZOFFSETFROM:+0200
TZOFFSETTO:+0100
TZNAME:CET
DTSTART:20261025T010000
END:STANDARD
BEGIN:DAYLIGHT
TZOFFSETFROM:+0100
TZOFFSETTO:+0200
TZNAME:CEST
DTSTART:20270328T010000
END:DAYLIGHT
BEGIN:STANDARD
TZOFFSETFROM:+0200
TZOFFSETTO:+0100
TZNAME:CET
DTSTART:20271031T010000
END:STANDARD
BEGIN:DAYLIGHT
TZOFFSETFROM:+0100
TZOFFSETTO:+0200
TZNAME:CEST
DTSTART:20280326T010000
END:DAYLIGHT
BEGIN:STANDARD
TZOFFSETFROM:+0200
TZOFFSETTO:+0100
TZNAME:CET
DTSTART:20281029T010000
END:STANDARD
END:VTIMEZONE
BEGIN:VEVENT
DTSTART;TZID=Europe/Zurich:20260508T193000
DTEND;TZID=Europe/Zurich:20260508T220000
DTSTAMP:20260420T023430
CREATED:20230405T130523Z
LAST-MODIFIED:20260322T093516Z
UID:905-1778268600-1778277600@fwv.ch
SUMMARY:Stübertreff - Wursten
DESCRIPTION:Organisator
URL:https://fwv.ch/veranstaltung/stuebertreff-wursten-2/
LOCATION:Depot Embrach\, Nordstrasse 10\, Embrach\, 8424
CATEGORIES:Stübertreff
END:VEVENT
BEGIN:VEVENT
DTSTART;TZID=Europe/Zurich:20260523T080000
DTEND;TZID=Europe/Zurich:20260523T170000
DTSTAMP:20260420T023430
CREATED:20260322T093718Z
LAST-MODIFIED:20260322T093719Z
UID:1413-1779523200-1779555600@fwv.ch
SUMMARY:150 Jahre FW Rothenburg
DESCRIPTION:
URL:https://fwv.ch/veranstaltung/150-jahre-fw-rothenburg/
END:VEVENT
BEGIN:VEVENT
DTSTART;TZID=Europe/Zurich:20260605T193000
DTEND;TZID=Europe/Zurich:20260605T220000
DTSTAMP:20260420T023430
CREATED:20230405T130523Z
LAST-MODIFIED:20260322T093445Z
UID:910-1780687800-1780696800@fwv.ch
SUMMARY:Stübertreff - Vereinsmaterial Service
DESCRIPTION:Organisator
URL:https://fwv.ch/veranstaltung/stuebertreff-wursten-2-2/
LOCATION:Depot Embrach\, Nordstrasse 10\, Embrach\, 8424
CATEGORIES:Stübertreff
END:VEVENT
BEGIN:VEVENT
DTSTART;TZID=Europe/Zurich:20260607T000000
DTEND;TZID=Europe/Zurich:20260607T235959
DTSTAMP:20260420T023430
CREATED:20230412T091652Z
LAST-MODIFIED:20260322T093251Z
UID:433-1780790400-1780876799@fwv.ch
SUMMARY:Familientag
DESCRIPTION:Organisator
URL:https://fwv.ch/veranstaltung/familientag/
LOCATION:Depot Embrach\, Nordstrasse 10\, Embrach\, 8424
END:VEVENT
BEGIN:VEVENT
DTSTART;TZID=Europe/Zurich:20260613T000000
DTEND;TZID=Europe/Zurich:20260614T235959
DTSTAMP:20260420T023430
CREATED:20230412T092223Z
LAST-MODIFIED:20260322T093322Z
UID:533-1781308800-1781481599@fwv.ch
SUMMARY:2-Rad Weekend
DESCRIPTION:Organisator
URL:https://fwv.ch/veranstaltung/2-rad-weekend/
END:VEVENT
BEGIN:VEVENT
DTSTART;TZID=Europe/Zurich:20260614T080000
DTEND;TZID=Europe/Zurich:20260614T170000
DTSTAMP:20260420T023430
CREATED:20260322T093851Z
LAST-MODIFIED:20260322T093852Z
UID:1415-1781424000-1781456400@fwv.ch
SUMMARY:100-jähriges Jubiläum FW Egringen
DESCRIPTION:
URL:https://fwv.ch/veranstaltung/100-jaehriges-jubilaeum-fw-egringen/
END:VEVENT
BEGIN:VEVENT
DTSTART;TZID=Europe/Zurich:20260618T080000
DTEND;TZID=Europe/Zurich:20260618T170000
DTSTAMP:20260420T023430
CREATED:20260322T093959Z
LAST-MODIFIED:20260322T094000Z
UID:1417-1781769600-1781802000@fwv.ch
SUMMARY:FW Oldtimer WM Grossglockner
DESCRIPTION:
URL:https://fwv.ch/veranstaltung/fw-oldtimer-wm-grossglockner/
END:VEVENT
BEGIN:VEVENT
DTSTART;TZID=Europe/Zurich:20260626T193000
DTEND;TZID=Europe/Zurich:20260626T220000
DTSTAMP:20260420T023430
CREATED:20230412T084649Z
LAST-MODIFIED:20260322T093358Z
UID:405-1782502200-1782511200@fwv.ch
SUMMARY:Stübertreff - Ausfahrt zum Feuerwehrhörnli-Abend in Glattfelden
DESCRIPTION:Organisator
URL:https://fwv.ch/veranstaltung/stuebertreff-juni-offen/
LOCATION:Depot Embrach\, Nordstrasse 10\, Embrach\, 8424
CATEGORIES:Stübertreff
END:VEVENT
BEGIN:VEVENT
DTSTART;TZID=Europe/Zurich:20260731T193000
DTEND;TZID=Europe/Zurich:20260731T220000
DTSTAMP:20260420T023430
CREATED:20230412T090304Z
LAST-MODIFIED:20260322T093206Z
UID:1411-1785526200-1785535200@fwv.ch
SUMMARY:Stübertreff - offen
DESCRIPTION:Organisator
URL:https://fwv.ch/veranstaltung/stuebertreff-wuermlibaden-2-2-2-2-2-2/
LOCATION:Depot Embrach\, Nordstrasse 10\, Embrach\, 8424
CATEGORIES:Stübertreff
END:VEVENT
BEGIN:VEVENT
DTSTART;TZID=Europe/Zurich:20260821T193000
DTEND;TZID=Europe/Zurich:20260821T220000
DTSTAMP:20260420T023430
CREATED:20230412T090304Z
LAST-MODIFIED:20260322T093111Z
UID:914-1787340600-1787349600@fwv.ch
SUMMARY:Stübertreff - Würmlibaden
DESCRIPTION:Organisator
URL:https://fwv.ch/veranstaltung/stuebertreff-wuermlibaden-3/
LOCATION:Depot Embrach\, Nordstrasse 10\, Embrach\, 8424
CATEGORIES:Stübertreff
END:VEVENT
BEGIN:VEVENT
DTSTART;TZID=Europe/Zurich:20260829T080000
DTEND;TZID=Europe/Zurich:20260829T170000
DTSTAMP:20260420T023430
CREATED:20260322T094046Z
LAST-MODIFIED:20260322T094047Z
UID:1419-1787990400-1788022800@fwv.ch
SUMMARY:kantonaler JFW Wettkampf
DESCRIPTION:
URL:https://fwv.ch/veranstaltung/kantonaler-jfw-wettkampf/
END:VEVENT
BEGIN:VEVENT
DTSTART;TZID=Europe/Zurich:20260913T080000
DTEND;TZID=Europe/Zurich:20260913T170000
DTSTAMP:20260420T023430
CREATED:20260322T100036Z
LAST-MODIFIED:20260322T100037Z
UID:1421-1789286400-1789318800@fwv.ch
SUMMARY:30 Jahre TLF Club Inwil
DESCRIPTION:
URL:https://fwv.ch/veranstaltung/30-jahre-tlf-club-inwil/
END:VEVENT
BEGIN:VEVENT
DTSTART;TZID=Europe/Zurich:20260920T000000
DTEND;TZID=Europe/Zurich:20260920T235900
DTSTAMP:20260420T023430
CREATED:20230412T092223Z
LAST-MODIFIED:20260322T093025Z
UID:441-1789862400-1789948740@fwv.ch
SUMMARY:23. Emerichbike
DESCRIPTION:Organisator
URL:https://fwv.ch/veranstaltung/20-emerichbike/
LOCATION:Depot Embrach\, Nordstrasse 10\, Embrach\, 8424
END:VEVENT
BEGIN:VEVENT
DTSTART;TZID=Europe/Zurich:20261002T193000
DTEND;TZID=Europe/Zurich:20261002T220000
DTSTAMP:20260420T023430
CREATED:20230412T090304Z
LAST-MODIFIED:20260322T092538Z
UID:1405-1790969400-1790978400@fwv.ch
SUMMARY:Stübertreff - offen
DESCRIPTION:Organisator
URL:https://fwv.ch/veranstaltung/stuebertreff-wuermlibaden-2-2-2-2-2/
LOCATION:Depot Embrach\, Nordstrasse 10\, Embrach\, 8424
CATEGORIES:Stübertreff
END:VEVENT
BEGIN:VEVENT
DTSTART;TZID=Europe/Zurich:20261029T193000
DTEND;TZID=Europe/Zurich:20261029T220000
DTSTAMP:20260420T023430
CREATED:20230412T090304Z
LAST-MODIFIED:20260322T092456Z
UID:1403-1793302200-1793311200@fwv.ch
SUMMARY:Stübertreff - offen
DESCRIPTION:Organisator
URL:https://fwv.ch/veranstaltung/stuebertreff-wuermlibaden-2-2-2-2/
LOCATION:Depot Embrach\, Nordstrasse 10\, Embrach\, 8424
CATEGORIES:Stübertreff
END:VEVENT
BEGIN:VEVENT
DTSTART;TZID=Europe/Zurich:20261120T193000
DTEND;TZID=Europe/Zurich:20261120T220000
DTSTAMP:20260420T023430
CREATED:20230412T090304Z
LAST-MODIFIED:20260322T092411Z
UID:1315-1795203000-1795212000@fwv.ch
SUMMARY:Stübertreff - offen
DESCRIPTION:Organisator
URL:https://fwv.ch/veranstaltung/stuebertreff-wuermlibaden-2-2-2/
LOCATION:Depot Embrach\, Nordstrasse 10\, Embrach\, 8424
CATEGORIES:Stübertreff
END:VEVENT
BEGIN:VEVENT
DTSTART;TZID=Europe/Zurich:20261205T190000
DTEND;TZID=Europe/Zurich:20261205T235900
DTSTAMP:20260420T023430
CREATED:20230412T092223Z
LAST-MODIFIED:20260322T092337Z
UID:1317-1796497200-1796515140@fwv.ch
SUMMARY:Vereinshöck
DESCRIPTION:Organisator
URL:https://fwv.ch/veranstaltung/vereinshock-helferessen-2/
END:VEVENT
BEGIN:VEVENT
DTSTART;TZID=Europe/Zurich:20270109T000000
DTEND;TZID=Europe/Zurich:20270110T235959
DTSTAMP:20260420T023430
CREATED:20230412T092223Z
LAST-MODIFIED:20260322T092257Z
UID:549-1799452800-1799625599@fwv.ch
SUMMARY:Wintersportweekend
DESCRIPTION:Organisator
URL:https://fwv.ch/veranstaltung/skiweekend/
END:VEVENT
BEGIN:VEVENT
DTSTART;TZID=Europe/Zurich:20270129T193000
DTEND;TZID=Europe/Zurich:20270129T220000
DTSTAMP:20260420T023430
CREATED:20231021T152948Z
LAST-MODIFIED:20260322T092116Z
UID:921-1801251000-1801260000@fwv.ch
SUMMARY:Stübertreff - Chäs-Süppli
DESCRIPTION:
URL:https://fwv.ch/veranstaltung/stuebertreff-chaes-sueppli-2/
END:VEVENT
BEGIN:VEVENT
DTSTART;TZID=Europe/Zurich:20270226T193000
DTEND;TZID=Europe/Zurich:20270226T220000
DTSTAMP:20260420T023430
CREATED:20231021T152948Z
LAST-MODIFIED:20260322T092036Z
UID:872-1803670200-1803679200@fwv.ch
SUMMARY:Stübertreff - Kart
DESCRIPTION:
URL:https://fwv.ch/veranstaltung/stuebertreff-chaes-sueppli/
END:VEVENT
BEGIN:VEVENT
DTSTART;TZID=Europe/Zurich:20270307T000000
DTEND;TZID=Europe/Zurich:20270307T235900
DTSTAMP:20260420T023430
CREATED:20230412T092223Z
LAST-MODIFIED:20260322T092210Z
UID:554-1804377600-1804463940@fwv.ch
SUMMARY:Unterlandstafette
DESCRIPTION:Organisator
URL:https://fwv.ch/veranstaltung/unterlandstafette/
END:VEVENT
BEGIN:VEVENT
DTSTART;TZID=Europe/Zurich:20270319T190000
DTEND;TZID=Europe/Zurich:20270319T235900
DTSTAMP:20260420T023430
CREATED:20230412T092223Z
LAST-MODIFIED:20260322T091916Z
UID:557-1805482800-1805500740@fwv.ch
SUMMARY:32. Generalversammlung
DESCRIPTION:Organisator
URL:https://fwv.ch/veranstaltung/30-generalversammlung/
END:VEVENT
END:VCALENDAR